BEGIN:VCALENDAR
VERSION:2.0
PRODID:-//wp-events-plugin.com//7.2.3.1//EN
BEGIN:VEVENT
UID:64@wassersportverein-twistesee.de
DTSTART:20240501T100000Z
DTEND:20240501T190000Z
DTSTAMP:20240328T095435Z
URL:https://wassersportverein-twistesee.de/events/saisonstart/
SUMMARY:Saisonstart
DESCRIPTION:Wie üblich treffen wir uns am 01.Mai ab 11:00 Uhr zum offiziel
 len Saisonstart zum gemeinsamen Anpaddeln\, Anrudern und Ansegeln sowie ge
 meinsamen Grillen. Zum Grillen bringt bitte jeder das mit\, was er gegrill
 t haben möchte. Getränke sind vorhanden.
CATEGORIES:Vereinsleben
LOCATION:WST Vereinsheim\, Hoppenhof 6\, Wetterburg\, Hessen\, 34454\, Land
 kreis Waldeck-Frankenberg\, Deutschland
GEO:51.383396;9.060697
X-APPLE-STRUCTURED-LOCATION;VALUE=URI;X-ADDRESS=Hoppenhof 6\, Wetterburg\, 
 Hessen\, 34454\, Landkreis Waldeck-Frankenberg\, Deutschland;X-APPLE-RADIU
 S=100;X-TITLE=WST Vereinsheim:geo:51.383396,9.060697
END:VEVENT
END:VCALENDAR